BEGIN:VCALENDAR
VERSION:2.0
PRODID:spatie/icalendar-generator
DESCRIPTION:Events from Flagler Cares
X-WR-CALDESC:Events from Flagler Cares
REFRESH-INTERVAL;VALUE=DURATION:PT1440M
X-PUBLISHED-TTL:PT1440M
BEGIN:VTIMEZONE
TZID:Etc/GMT+0
BEGIN:STANDARD
DTSTART:20250809T150000Z
TZOFFSETFROM:+0000
TZOFFSETTO:+0000
END:STANDARD
END:VTIMEZONE
BEGIN:VTIMEZONE
TZID:UTC
BEGIN:STANDARD
DTSTART:20250728T135920Z
TZOFFSETFROM:+0000
TZOFFSETTO:+0000
END:STANDARD
END:VTIMEZONE
BEGIN:VEVENT
UID:2548-85
DTSTAMP:20260424T135920Z
SUMMARY:Flagler Cares Help Night
LOCATION:Flagler Cares Community Room 160 Cypress Point Pkwy Bldg B\, 3rd f
 loor\, Suite B304 Palm Coast FL 32164
ORGANIZER;CN=flaglercares:MAILTO:tracy@ovfv.org
DTSTART;TZID=Etc/GMT+0:20260506T150000
DTEND;TZID=Etc/GMT+0:20260506T183000
X-ALT-DESC;FMTTYPE=TEXT/HTML:Join Flagler Cares and community partners for 
 a one-stop Help Night—bringing services directly to you in one place. Th
 is event is open to the public and free to attend. Stop by and get connect
 ed. Date: May 6\, 2026 Time\; 3:00 – 6:30 PM Location: City Marketplace\
 , Flagler County Village Community Room 160 Cypress Point Pkwy\,&amp;hellip\;
CATEGORIES:Flagler Cares Coalition
URL;VALUE=URI:https://www.flaglercares.org/mc-events/flagler-cares-help-nig
 ht-5/
METHOD:PUBLISH
END:VEVENT
END:VCALENDAR